BEGIN:VCALENDAR
VERSION:2.0
PRODID:-//Evang.-Luth. Kirchengemeinden - ECPv5.16.3.1//NONSGML v1.0//EN
CALSCALE:GREGORIAN
METHOD:PUBLISH
X-WR-CALNAME:Evang.-Luth. Kirchengemeinden
X-ORIGINAL-URL:https://kirchengemeinde-toepen.de
X-WR-CALDESC:Veranstaltungen für Evang.-Luth. Kirchengemeinden
BEGIN:VTIMEZONE
TZID:Europe/Berlin
BEGIN:DAYLIGHT
TZOFFSETFROM:+0100
TZOFFSETTO:+0200
TZNAME:CEST
DTSTART:20220327T010000
END:DAYLIGHT
BEGIN:STANDARD
TZOFFSETFROM:+0200
TZOFFSETTO:+0100
TZNAME:CET
DTSTART:20221030T010000
END:STANDARD
BEGIN:DAYLIGHT
TZOFFSETFROM:+0100
TZOFFSETTO:+0200
TZNAME:CEST
DTSTART:20230326T010000
END:DAYLIGHT
BEGIN:STANDARD
TZOFFSETFROM:+0200
TZOFFSETTO:+0100
TZNAME:CET
DTSTART:20231029T010000
END:STANDARD
END:VTIMEZONE
BEGIN:VEVENT
DTSTART;VALUE=DATE:20221224
DTEND;VALUE=DATE:20230109
DTSTAMP:20260421T065616
CREATED:20221004T084547Z
LAST-MODIFIED:20230526T121616Z
UID:7130-1671840000-1673222399@kirchengemeinde-toepen.de
SUMMARY:Weihnachtsferien 2022-2023
DESCRIPTION:Unsere Kindertagesstätte macht vom 24.12.2022 bis zum 08.01.2023 Weihnachtsferien.
URL:https://kirchengemeinde-toepen.de/veranstaltung/weihnachtsferien-2022-2023/
CATEGORIES:Kindergarten
END:VEVENT
END:VCALENDAR