BEGIN:VCALENDAR
VERSION:2.0
PRODID:-//Evang.-Luth. Kirchengemeinden - ECPv5.16.3.1//NONSGML v1.0//EN
CALSCALE:GREGORIAN
METHOD:PUBLISH
X-WR-CALNAME:Evang.-Luth. Kirchengemeinden
X-ORIGINAL-URL:https://kirchengemeinde-toepen.de
X-WR-CALDESC:Veranstaltungen für Evang.-Luth. Kirchengemeinden
BEGIN:VTIMEZONE
TZID:Europe/Berlin
BEGIN:DAYLIGHT
TZOFFSETFROM:+0100
TZOFFSETTO:+0200
TZNAME:CEST
DTSTART:20220327T010000
END:DAYLIGHT
BEGIN:STANDARD
TZOFFSETFROM:+0200
TZOFFSETTO:+0100
TZNAME:CET
DTSTART:20221030T010000
END:STANDARD
END:VTIMEZONE
BEGIN:VEVENT
DTSTART;VALUE=DATE:20221223
DTEND;VALUE=DATE:20221224
DTSTAMP:20260421T033647
CREATED:20221004T083309Z
LAST-MODIFIED:20221004T083309Z
UID:7110-1671753600-1671839999@kirchengemeinde-toepen.de
SUMMARY:Weihnachtsfeier 2022
DESCRIPTION:
URL:https://kirchengemeinde-toepen.de/veranstaltung/weihnachtsfeier-2022/
LOCATION:Kindertagesstätte Königskinder\, Königshofstr. 3\, 95183 Töpen\, Bayern
CATEGORIES:Kindergarten
END:VEVENT
END:VCALENDAR