BEGIN:VCALENDAR
VERSION:2.0
PRODID:-//Evang.-Luth. Kirchengemeinden - ECPv5.16.3.1//NONSGML v1.0//EN
CALSCALE:GREGORIAN
METHOD:PUBLISH
X-WR-CALNAME:Evang.-Luth. Kirchengemeinden
X-ORIGINAL-URL:https://kirchengemeinde-toepen.de
X-WR-CALDESC:Veranstaltungen für Evang.-Luth. Kirchengemeinden
BEGIN:VTIMEZONE
TZID:Europe/Berlin
BEGIN:DAYLIGHT
TZOFFSETFROM:+0100
TZOFFSETTO:+0200
TZNAME:CEST
DTSTART:20220327T010000
END:DAYLIGHT
BEGIN:STANDARD
TZOFFSETFROM:+0200
TZOFFSETTO:+0100
TZNAME:CET
DTSTART:20221030T010000
END:STANDARD
END:VTIMEZONE
BEGIN:VEVENT
DTSTART;TZID=Europe/Berlin:20221111T170000
DTEND;TZID=Europe/Berlin:20221111T190000
DTSTAMP:20260420T201337
CREATED:20221004T082509Z
LAST-MODIFIED:20221004T082509Z
UID:7097-1668186000-1668193200@kirchengemeinde-toepen.de
SUMMARY:St. Martinsfest
DESCRIPTION:Herzliche Einladung zum St. Martinsfest. \nam Freitag\, deb 11. November 2022 ab 17:00 Uhr in der KiTa
URL:https://kirchengemeinde-toepen.de/veranstaltung/st-martinsfest-2/
CATEGORIES:Kindergarten
END:VEVENT
END:VCALENDAR