BEGIN:VCALENDAR
VERSION:2.0
PRODID:-//Evang.-Luth. Kirchengemeinden - ECPv5.16.3.1//NONSGML v1.0//EN
CALSCALE:GREGORIAN
METHOD:PUBLISH
X-WR-CALNAME:Evang.-Luth. Kirchengemeinden
X-ORIGINAL-URL:https://kirchengemeinde-toepen.de
X-WR-CALDESC:Veranstaltungen für Evang.-Luth. Kirchengemeinden
BEGIN:VTIMEZONE
TZID:Europe/Berlin
BEGIN:DAYLIGHT
TZOFFSETFROM:+0100
TZOFFSETTO:+0200
TZNAME:CEST
DTSTART:20220327T010000
END:DAYLIGHT
BEGIN:STANDARD
TZOFFSETFROM:+0200
TZOFFSETTO:+0100
TZNAME:CET
DTSTART:20221030T010000
END:STANDARD
END:VTIMEZONE
BEGIN:VEVENT
DTSTART;TZID=Europe/Berlin:20221211T093000
DTEND;TZID=Europe/Berlin:20221211T103000
DTSTAMP:20260421T000714
CREATED:20221004T083102Z
LAST-MODIFIED:20221004T083102Z
UID:7106-1670751000-1670754600@kirchengemeinde-toepen.de
SUMMARY:Familiengottesdienst im Advent 2022
DESCRIPTION:Herzliche Einladung zum Familiengottesdienst in der St. Martinskirche Töpen.\nGemeinsam mit den Kindern gestalten wir den Gottesdienst. \nWir freuen uns auf Ihr Kommen! \n  \nWir verweisen auf die akutell gültigen Vorgaben für Gottesdienste.
URL:https://kirchengemeinde-toepen.de/veranstaltung/familiengottesdienst-im-advent-2022/
CATEGORIES:Kindergarten
ATTACH;FMTTYPE=image/jpeg:https://kirchengemeinde-toepen.de/wp-content/uploads/2019/12/2019-12-15_FamGD_Logo.jpg
END:VEVENT
END:VCALENDAR